0.2500000000
0.0000000000
0.0000000000
-0.2500000000
506371.3750000000
374733.8750000000
