0.2500000000
0.0000000000
0.0000000000
-0.2500000000
516523.6250000000
376644.6250000000
