0.2500000000
0.0000000000
0.0000000000
-0.2500000000
516605.8750000000
378921.3750000000
