0.2500000000
0.0000000000
0.0000000000
-0.2500000000
513167.3750000000
376766.1250000000
