0.2500000000
0.0000000000
0.0000000000
-0.2500000000
513249.8750000000
379042.8750000000
