0.2500000000
0.0000000000
0.0000000000
-0.2500000000
509810.8750000000
376888.1250000000
