0.2500000000
0.0000000000
0.0000000000
-0.2500000000
509893.8750000000
379164.6250000000
