0.2500000000
0.0000000000
0.0000000000
-0.2500000000
506454.6250000000
377010.3750000000
