0.2500000000
0.0000000000
0.0000000000
-0.2500000000
506537.8750000000
379287.1250000000
