0.2500000000
0.0000000000
0.0000000000
-0.2500000000
433441.1250000000
315960.6250000000
