0.2500000000
0.0000000000
0.0000000000
-0.2500000000
433531.6250000000
318237.1250000000
