0.2500000000
0.0000000000
0.0000000000
-0.2500000000
430166.3750000000
318371.1250000000
