0.2500000000
0.0000000000
0.0000000000
-0.2500000000
433622.1250000000
320513.6250000000
