0.2500000000
0.0000000000
0.0000000000
-0.2500000000
433712.6250000000
322789.8750000000
