0.2500000000
0.0000000000
0.0000000000
-0.2500000000
430257.1250000000
320647.6250000000
