0.2500000000
0.0000000000
0.0000000000
-0.2500000000
430348.1250000000
322923.8750000000
