0.2500000000
0.0000000000
0.0000000000
-0.2500000000
426983.3750000000
323058.6250000000
