0.2500000000
0.0000000000
0.0000000000
-0.2500000000
433803.1250000000
325066.3750000000
