0.2500000000
0.0000000000
0.0000000000
-0.2500000000
433893.6250000000
327342.8750000000
