0.2500000000
0.0000000000
0.0000000000
-0.2500000000
430438.8750000000
325200.3750000000
