0.2500000000
0.0000000000
0.0000000000
-0.2500000000
430529.8750000000
327476.8750000000
