0.2500000000
0.0000000000
0.0000000000
-0.2500000000
427074.6250000000
325334.8750000000
