0.2500000000
0.0000000000
0.0000000000
-0.2500000000
427165.8750000000
327611.3750000000
