0.2500000000
0.0000000000
0.0000000000
-0.2500000000
423802.1250000000
327746.3750000000
