0.2500000000
0.0000000000
0.0000000000
-0.2500000000
420438.1250000000
327881.8750000000
