0.2500000000
0.0000000000
0.0000000000
-0.2500000000
433984.1250000000
329619.3750000000
