0.2500000000
0.0000000000
0.0000000000
-0.2500000000
434074.6250000000
331895.6250000000
