0.2500000000
0.0000000000
0.0000000000
-0.2500000000
430620.6250000000
329753.1250000000
