0.2500000000
0.0000000000
0.0000000000
-0.2500000000
430711.3750000000
332029.6250000000
