0.2500000000
0.0000000000
0.0000000000
-0.2500000000
427257.1250000000
329887.6250000000
