0.2500000000
0.0000000000
0.0000000000
-0.2500000000
427348.3750000000
332164.1250000000
