0.2500000000
0.0000000000
0.0000000000
-0.2500000000
423893.6250000000
330022.6250000000
