0.2500000000
0.0000000000
0.0000000000
-0.2500000000
423985.1250000000
332299.1250000000
