0.2500000000
0.0000000000
0.0000000000
-0.2500000000
420530.1250000000
330158.1250000000
