0.2500000000
0.0000000000
0.0000000000
-0.2500000000
420621.8750000000
332434.6250000000
