0.2500000000
0.0000000000
0.0000000000
-0.2500000000
434165.1250000000
334172.1250000000
