0.2500000000
0.0000000000
0.0000000000
-0.2500000000
434255.6250000000
336448.3750000000
