0.2500000000
0.0000000000
0.0000000000
-0.2500000000
430802.3750000000
334306.1250000000
