0.2500000000
0.0000000000
0.0000000000
-0.2500000000
430893.1250000000
336582.3750000000
