0.2500000000
0.0000000000
0.0000000000
-0.2500000000
427439.3750000000
334440.3750000000
