0.2500000000
0.0000000000
0.0000000000
-0.2500000000
427530.6250000000
336716.8750000000
