0.2500000000
0.0000000000
0.0000000000
-0.2500000000
424076.6250000000
334575.3750000000
