0.2500000000
0.0000000000
0.0000000000
-0.2500000000
424168.1250000000
336851.8750000000
