0.2500000000
0.0000000000
0.0000000000
-0.2500000000
420713.8750000000
334710.8750000000
