0.2500000000
0.0000000000
0.0000000000
-0.2500000000
420805.6250000000
336987.3750000000
