0.2500000000
0.0000000000
0.0000000000
-0.2500000000
417166.6250000000
330294.1250000000
