0.2500000000
0.0000000000
0.0000000000
-0.2500000000
417258.8750000000
332570.6250000000
