0.2500000000
0.0000000000
0.0000000000
-0.2500000000
417351.1250000000
334846.8750000000
