0.2500000000
0.0000000000
0.0000000000
-0.2500000000
417443.3750000000
337123.1250000000
