0.2500000000
0.0000000000
0.0000000000
-0.2500000000
413988.3750000000
334983.3750000000
